BEGIN:VCALENDAR
VERSION:2.0
PRODID:-//wp-events-plugin.com//7.2.3.1//EN
TZID:Europe/Prague
X-WR-TIMEZONE:Europe/Prague
BEGIN:VEVENT
UID:14@emcc-czsk.eu
DTSTART;TZID=Europe/Prague:20250227T180000
DTEND;TZID=Europe/Prague:20250227T210000
DTSTAMP:20250923T194011Z
URL:https://www.emcc-czsk.eu/events/o-hledani-smyslu/
SUMMARY:O hledání smyslu
DESCRIPTION:Existenciální inspirace s Norbertem Riethofem
ATTACH;FMTTYPE=image/jpeg:https://www.emcc-czsk.eu/wp-content/uploads/2025
 /09/12.png
CATEGORIES:Klubové večery
END:VEVENT
BEGIN:VTIMEZONE
TZID:Europe/Prague
X-LIC-LOCATION:Europe/Prague
BEGIN:STANDARD
DTSTART:20241027T020000
TZOFFSETFROM:+0200
TZOFFSETTO:+0100
TZNAME:CET
END:STANDARD
END:VTIMEZONE
END:VCALENDAR