BEGIN:VCALENDAR
VERSION:2.0
PRODID:-//wp-events-plugin.com//7.2.3.1//EN
TZID:Europe/Prague
X-WR-TIMEZONE:Europe/Prague
BEGIN:VEVENT
UID:13@emcc-czsk.eu
DTSTART;TZID=Europe/Prague:20250123T180000
DTEND;TZID=Europe/Prague:20250319T200000
DTSTAMP:20250923T193305Z
URL:https://www.emcc-czsk.eu/events/tri-vecery-na-tema-profesionality-v-ko
 ucovani-a-mentoringu/
SUMMARY:Tři večery na téma profesionality  v koučování a mentoringu
DESCRIPTION:Tři večery na téma profesionality v koučování a mentoring
 u\n23. 1. 2025 Reflektivní praxe pro kouče a mentory: Cesta k rozvoji a 
 kompetencím\n19. 2. 2025 Etické rozhodování v koučování: Výzvy\, k
 teré nás formují\n19. 3. 2025 Jak se připravit na akreditaci EMCC\nDan
 a Kodešová a Lenka Šilerová\n&nbsp\;
ATTACH;FMTTYPE=image/jpeg:https://www.emcc-czsk.eu/wp-content/uploads/2025
 /09/5.png
CATEGORIES:Klubové večery
END:VEVENT
BEGIN:VTIMEZONE
TZID:Europe/Prague
X-LIC-LOCATION:Europe/Prague
BEGIN:STANDARD
DTSTART:20241027T020000
TZOFFSETFROM:+0200
TZOFFSETTO:+0100
TZNAME:CET
END:STANDARD
END:VTIMEZONE
END:VCALENDAR